BEGIN:VCALENDAR
VERSION:2.0
PRODID:-//Breanäs Missionsgård - ECPv6.15.20//NONSGML v1.0//EN
CALSCALE:GREGORIAN
METHOD:PUBLISH
X-ORIGINAL-URL:https://www.breanas.se
X-WR-CALDESC:Händelser för Breanäs Missionsgård
REFRESH-INTERVAL;VALUE=DURATION:PT1H
X-Robots-Tag:noindex
X-PUBLISHED-TTL:PT1H
BEGIN:VTIMEZONE
TZID:Europe/Stockholm
BEGIN:DAYLIGHT
TZOFFSETFROM:+0100
TZOFFSETTO:+0200
TZNAME:CEST
DTSTART:20250330T010000
END:DAYLIGHT
BEGIN:STANDARD
TZOFFSETFROM:+0200
TZOFFSETTO:+0100
TZNAME:CET
DTSTART:20251026T010000
END:STANDARD
BEGIN:DAYLIGHT
TZOFFSETFROM:+0100
TZOFFSETTO:+0200
TZNAME:CEST
DTSTART:20260329T010000
END:DAYLIGHT
BEGIN:STANDARD
TZOFFSETFROM:+0200
TZOFFSETTO:+0100
TZNAME:CET
DTSTART:20261025T010000
END:STANDARD
BEGIN:DAYLIGHT
TZOFFSETFROM:+0100
TZOFFSETTO:+0200
TZNAME:CEST
DTSTART:20270328T010000
END:DAYLIGHT
BEGIN:STANDARD
TZOFFSETFROM:+0200
TZOFFSETTO:+0100
TZNAME:CET
DTSTART:20271031T010000
END:STANDARD
END:VTIMEZONE
BEGIN:VEVENT
DTSTART;VALUE=DATE:20260925
DTEND;VALUE=DATE:20260928
DTSTAMP:20260423T165128
CREATED:20220613T201406Z
LAST-MODIFIED:20260211T090004Z
UID:12311-1790294400-1790553599@www.breanas.se
SUMMARY:Återträff Konfa -26
DESCRIPTION:
URL:https://www.breanas.se/kalender/atertraff-konfa-24/
END:VEVENT
BEGIN:VEVENT
DTSTART;VALUE=DATE:20261002
DTEND;VALUE=DATE:20261005
DTSTAMP:20260423T165128
CREATED:20220613T201915Z
LAST-MODIFIED:20260211T085547Z
UID:12318-1790899200-1791158399@www.breanas.se
SUMMARY:Retreat
DESCRIPTION:
URL:https://www.breanas.se/kalender/retreat-4/
END:VEVENT
BEGIN:VEVENT
DTSTART;VALUE=DATE:20261009
DTEND;VALUE=DATE:20261012
DTSTAMP:20260423T165128
CREATED:20230810T182135Z
LAST-MODIFIED:20260211T090033Z
UID:12479-1791504000-1791763199@www.breanas.se
SUMMARY:Återträff Konfa -25
DESCRIPTION:
URL:https://www.breanas.se/kalender/atertraff-konfa-22/
END:VEVENT
BEGIN:VEVENT
DTSTART;VALUE=DATE:20261028
DTEND;VALUE=DATE:20261031
DTSTAMP:20260423T165128
CREATED:20220613T202102Z
LAST-MODIFIED:20260211T090123Z
UID:12320-1793145600-1793404799@www.breanas.se
SUMMARY:ELU höstlovsläger
DESCRIPTION:Mer info kommer… \n 
URL:https://www.breanas.se/kalender/elu-hostlovslager/
END:VEVENT
BEGIN:VEVENT
DTSTART;VALUE=DATE:20261128
DTEND;VALUE=DATE:20261129
DTSTAMP:20260423T165128
CREATED:20250613T201828Z
LAST-MODIFIED:20260211T090235Z
UID:12316-1795824000-1795910399@www.breanas.se
SUMMARY:Adventsmys inför julen
DESCRIPTION:Välkommen till adventsmys inför julen\nLördagen den 28 november \nVi börjar med julfika kl. 14.30. \nVi pysslar och binder kransar\, sedan äter vi en enkel julkvällsmat tillsammans.\nTa gärna med paket till paketauktion. Dagen avslutas med andakt. \nAnmäl sker till info@breanas.se \nSista anmälningsdag 24/11 \nKostnad för dagen: vuxen 150:- barn 75:-\nEv. material till pysslet betalas för sig.\nHjärtligt välkommen ung som gammal!
URL:https://www.breanas.se/kalender/adventsmys/
END:VEVENT
END:VCALENDAR